BEGIN:VCALENDAR
VERSION:2.0
PRODID:-//Foyer rural de Clavé - ECPv6.2.9//NONSGML v1.0//EN
CALSCALE:GREGORIAN
METHOD:PUBLISH
X-WR-CALNAME:Foyer rural de Clavé
X-ORIGINAL-URL:https://frclave.foyersruraux.org
X-WR-CALDESC:évènements pour Foyer rural de Clavé
REFRESH-INTERVAL;VALUE=DURATION:PT1H
X-Robots-Tag:noindex
X-PUBLISHED-TTL:PT1H
BEGIN:VTIMEZONE
TZID:Europe/Paris
BEGIN:DAYLIGHT
TZOFFSETFROM:+0100
TZOFFSETTO:+0200
TZNAME:CEST
DTSTART:20260329T010000
END:DAYLIGHT
BEGIN:STANDARD
TZOFFSETFROM:+0200
TZOFFSETTO:+0100
TZNAME:CET
DTSTART:20261025T010000
END:STANDARD
END:VTIMEZONE
BEGIN:VEVENT
DTSTART;TZID=Europe/Paris:20260117T203000
DTEND;TZID=Europe/Paris:20260117T203000
DTSTAMP:20260421T205455
CREATED:20251106T200944Z
LAST-MODIFIED:20251106T201021Z
UID:25451-1768681800-1768681800@frclave.foyersruraux.org
SUMMARY:Galette des Rois
DESCRIPTION:Soirée des adhérents
URL:https://frclave.foyersruraux.org/evenement/galette-des-rois/
END:VEVENT
END:VCALENDAR