BEGIN:VCALENDAR
VERSION:2.0
PRODID:-//Foyer rural de Clavé - ECPv6.2.9//NONSGML v1.0//EN
CALSCALE:GREGORIAN
METHOD:PUBLISH
X-WR-CALNAME:Foyer rural de Clavé
X-ORIGINAL-URL:https://frclave.foyersruraux.org
X-WR-CALDESC:évènements pour Foyer rural de Clavé
REFRESH-INTERVAL;VALUE=DURATION:PT1H
X-Robots-Tag:noindex
X-PUBLISHED-TTL:PT1H
BEGIN:VTIMEZONE
TZID:Europe/Paris
BEGIN:DAYLIGHT
TZOFFSETFROM:+0100
TZOFFSETTO:+0200
TZNAME:CEST
DTSTART:20260329T010000
END:DAYLIGHT
BEGIN:STANDARD
TZOFFSETFROM:+0200
TZOFFSETTO:+0100
TZNAME:CET
DTSTART:20261025T010000
END:STANDARD
END:VTIMEZONE
BEGIN:VEVENT
DTSTART;TZID=Europe/Paris:20260613T080000
DTEND;TZID=Europe/Paris:20260613T233000
DTSTAMP:20260421T185826
CREATED:20251106T201700Z
LAST-MODIFIED:20251106T201700Z
UID:25459-1781337600-1781393400@frclave.foyersruraux.org
SUMMARY:Le Cabaret "Zagal"
DESCRIPTION:Sortie en bus sur la journée
URL:https://frclave.foyersruraux.org/evenement/le-cabaret-zagal/
END:VEVENT
END:VCALENDAR