BEGIN:VCALENDAR
VERSION:2.0
PRODID:-//Foyer rural de Clavé - ECPv6.2.9//NONSGML v1.0//EN
CALSCALE:GREGORIAN
METHOD:PUBLISH
X-ORIGINAL-URL:https://frclave.foyersruraux.org
X-WR-CALDESC:évènements pour Foyer rural de Clavé
REFRESH-INTERVAL;VALUE=DURATION:PT1H
X-Robots-Tag:noindex
X-PUBLISHED-TTL:PT1H
BEGIN:VTIMEZONE
TZID:Europe/Paris
BEGIN:DAYLIGHT
TZOFFSETFROM:+0100
TZOFFSETTO:+0200
TZNAME:CEST
DTSTART:20250330T010000
END:DAYLIGHT
BEGIN:STANDARD
TZOFFSETFROM:+0200
TZOFFSETTO:+0100
TZNAME:CET
DTSTART:20251026T010000
END:STANDARD
BEGIN:DAYLIGHT
TZOFFSETFROM:+0100
TZOFFSETTO:+0200
TZNAME:CEST
DTSTART:20260329T010000
END:DAYLIGHT
BEGIN:STANDARD
TZOFFSETFROM:+0200
TZOFFSETTO:+0100
TZNAME:CET
DTSTART:20261025T010000
END:STANDARD
END:VTIMEZONE
BEGIN:VEVENT
DTSTART;TZID=Europe/Paris:20260417T200000
DTEND;TZID=Europe/Paris:20260417T200000
DTSTAMP:20260421T133859
CREATED:20251106T201433Z
LAST-MODIFIED:20251106T201433Z
UID:25455-1776456000-1776456000@frclave.foyersruraux.org
SUMMARY:Soirée à Thème
DESCRIPTION:
URL:https://frclave.foyersruraux.org/evenement/soiree-a-theme/
END:VEVENT
BEGIN:VEVENT
DTSTART;TZID=Europe/Paris:20260403T090000
DTEND;TZID=Europe/Paris:20260406T170000
DTSTAMP:20260421T133859
CREATED:20251106T201556Z
LAST-MODIFIED:20251106T201556Z
UID:25457-1775206800-1775494800@frclave.foyersruraux.org
SUMMARY:Week-end de pâques
DESCRIPTION:En Charente
URL:https://frclave.foyersruraux.org/evenement/week-end-de-paques/
END:VEVENT
BEGIN:VEVENT
DTSTART;TZID=Europe/Paris:20260228T140000
DTEND;TZID=Europe/Paris:20260228T180000
DTSTAMP:20260421T133859
CREATED:20251106T201203Z
LAST-MODIFIED:20251106T201203Z
UID:25453-1772287200-1772301600@frclave.foyersruraux.org
SUMMARY:atelier brico
DESCRIPTION:Laine feutrée
URL:https://frclave.foyersruraux.org/evenement/atelier-brico-3/
END:VEVENT
BEGIN:VEVENT
DTSTART;TZID=Europe/Paris:20260117T203000
DTEND;TZID=Europe/Paris:20260117T203000
DTSTAMP:20260421T133859
CREATED:20251106T200944Z
LAST-MODIFIED:20251106T201021Z
UID:25451-1768681800-1768681800@frclave.foyersruraux.org
SUMMARY:Galette des Rois
DESCRIPTION:Soirée des adhérents
URL:https://frclave.foyersruraux.org/evenement/galette-des-rois/
END:VEVENT
BEGIN:VEVENT
DTSTART;TZID=Europe/Paris:20251220T140000
DTEND;TZID=Europe/Paris:20251220T173000
DTSTAMP:20260421T133859
CREATED:20251106T200652Z
LAST-MODIFIED:20251106T200715Z
UID:25449-1766239200-1766251800@frclave.foyersruraux.org
SUMMARY:Atelier Brico
DESCRIPTION:Une composition florale pour Noël
URL:https://frclave.foyersruraux.org/evenement/atelier-brico-2/
END:VEVENT
BEGIN:VEVENT
DTSTART;TZID=Europe/Paris:20251126T143000
DTEND;TZID=Europe/Paris:20251126T180000
DTSTAMP:20260421T133859
CREATED:20251106T200543Z
LAST-MODIFIED:20251106T200543Z
UID:25447-1764167400-1764180000@frclave.foyersruraux.org
SUMMARY:Atelier Brico
DESCRIPTION:Réalisation d’une couronne de l’avent
URL:https://frclave.foyersruraux.org/evenement/atelier-brico/
END:VEVENT
END:VCALENDAR