BEGIN:VCALENDAR
VERSION:2.0
PRODID:-//Foyer rural de Clavé - ECPv6.2.9//NONSGML v1.0//EN
CALSCALE:GREGORIAN
METHOD:PUBLISH
X-WR-CALNAME:Foyer rural de Clavé
X-ORIGINAL-URL:https://frclave.foyersruraux.org
X-WR-CALDESC:évènements pour Foyer rural de Clavé
REFRESH-INTERVAL;VALUE=DURATION:PT1H
X-Robots-Tag:noindex
X-PUBLISHED-TTL:PT1H
BEGIN:VTIMEZONE
TZID:Europe/Paris
BEGIN:DAYLIGHT
TZOFFSETFROM:+0100
TZOFFSETTO:+0200
TZNAME:CEST
DTSTART:20250330T010000
END:DAYLIGHT
BEGIN:STANDARD
TZOFFSETFROM:+0200
TZOFFSETTO:+0100
TZNAME:CET
DTSTART:20251026T010000
END:STANDARD
END:VTIMEZONE
BEGIN:VEVENT
DTSTART;TZID=Europe/Paris:20251220T140000
DTEND;TZID=Europe/Paris:20251220T173000
DTSTAMP:20260421T205547
CREATED:20251106T200652Z
LAST-MODIFIED:20251106T200715Z
UID:25449-1766239200-1766251800@frclave.foyersruraux.org
SUMMARY:Atelier Brico
DESCRIPTION:Une composition florale pour Noël
URL:https://frclave.foyersruraux.org/evenement/atelier-brico-2/
END:VEVENT
END:VCALENDAR